BEGIN:VCALENDAR
VERSION:2.0
PRODID:-//courage4change.org//NONSGML kigkonsult.se iCalcreator 2.30.10//
CALSCALE:GREGORIAN
METHOD:PUBLISH
UID:e4f90b4e-b2d9-45af-b18a-4f9d892576a5
X-WR-CALDESC:
X-WR-RELCALID:a9a7ea3d73c79ace0bd309f014acd610
X-WR-TIMEZONE:America/Chicago
BEGIN:VTIMEZONE
TZID:America/Chicago
BEGIN:STANDARD
TZNAME:CST
DTSTART:20191103T020000
TZOFFSETFROM:-0500
TZOFFSETTO:-0600
RDATE:20201101T020000
RDATE:20211107T020000
END:STANDARD
BEGIN:DAYLIGHT
TZNAME:CDT
DTSTART:20200308T020000
TZOFFSETFROM:-0600
TZOFFSETTO:-0500
RDATE:20210314T020000
END:DAYLIGHT
END:VTIMEZONE
BEGIN:VEVENT
UID:65ec6168-c231-4e91-9b6d-295655763676
DTSTAMP:20260423T143956Z
DESCRIPTION:
DTSTART;TZID=America/Chicago:20200526T100000
DTEND;TZID=America/Chicago:20200526T230000
LOCATION:
SUMMARY:DV Online Peer Support Group
END:VEVENT
END:VCALENDAR
