BEGIN:VCALENDAR
VERSION:2.0
PRODID:-//courage4change.org//NONSGML kigkonsult.se iCalcreator 2.30.10//
CALSCALE:GREGORIAN
METHOD:PUBLISH
UID:d6e4aa63-92c9-4a2d-ba21-045761ca98f8
X-WR-CALDESC:
X-WR-RELCALID:8e01c1c462b040dfd1d51d6b4fbfd3ea
X-WR-TIMEZONE:America/Chicago
BEGIN:VTIMEZONE
TZID:America/Chicago
BEGIN:STANDARD
TZNAME:CST
DTSTART:20201101T020000
TZOFFSETFROM:-0500
TZOFFSETTO:-0600
RDATE:20211107T020000
END:STANDARD
BEGIN:DAYLIGHT
TZNAME:CDT
DTSTART:20200308T020000
TZOFFSETFROM:-0600
TZOFFSETTO:-0500
RDATE:20210314T020000
RDATE:20220313T020000
END:DAYLIGHT
END:VTIMEZONE
BEGIN:VEVENT
UID:08fc423a-1442-4097-af2b-e9ae39936bd3
DTSTAMP:20260423T152827Z
DESCRIPTION:
DTSTART;TZID=America/Chicago:20210223T110000
DTEND;TZID=America/Chicago:20210223T120000
LOCATION:
SUMMARY:DV Online Peer Support Group
END:VEVENT
END:VCALENDAR
