BEGIN:VCALENDAR
VERSION:2.0
PRODID:-//courage4change.org//NONSGML kigkonsult.se iCalcreator 2.30.10//
CALSCALE:GREGORIAN
METHOD:PUBLISH
UID:ff4b130b-cc1e-4e1c-b27f-7618efe1e6ba
X-WR-CALDESC:
X-WR-RELCALID:feed9cec4a7e5dd4735e7143f38268a5
X-WR-TIMEZONE:America/Chicago
BEGIN:VTIMEZONE
TZID:America/Chicago
BEGIN:STANDARD
TZNAME:CST
DTSTART:20211107T020000
TZOFFSETFROM:-0500
TZOFFSETTO:-0600
RDATE:20221106T020000
END:STANDARD
BEGIN:DAYLIGHT
TZNAME:CDT
DTSTART:20220313T020000
TZOFFSETFROM:-0600
TZOFFSETTO:-0500
RDATE:20230312T020000
END:DAYLIGHT
END:VTIMEZONE
BEGIN:VEVENT
UID:788ba3a5-8e33-46e3-bdcd-a36f17b169da
DTSTAMP:20260424T001114Z
DESCRIPTION:
DTSTART;TZID=America/Chicago:20220401T110000
DTEND;TZID=America/Chicago:20220401T120000
LOCATION:
SUMMARY:DV Online Peer Support Group
END:VEVENT
END:VCALENDAR
