BEGIN:VCALENDAR
VERSION:2.0
PRODID:-//courage4change.org//NONSGML kigkonsult.se iCalcreator 2.30.10//
CALSCALE:GREGORIAN
METHOD:PUBLISH
UID:ff267a38-1ed2-49ff-ae3d-a6ff1317a60b
X-WR-CALDESC:
X-WR-RELCALID:31890844afea7cd01a23a6a90c98de7f
X-WR-TIMEZONE:America/Chicago
BEGIN:VTIMEZONE
TZID:America/Chicago
BEGIN:STANDARD
TZNAME:CST
DTSTART:20211107T020000
TZOFFSETFROM:-0500
TZOFFSETTO:-0600
RDATE:20221106T020000
END:STANDARD
BEGIN:DAYLIGHT
TZNAME:CDT
DTSTART:20220313T020000
TZOFFSETFROM:-0600
TZOFFSETTO:-0500
RDATE:20230312T020000
END:DAYLIGHT
END:VTIMEZONE
BEGIN:VEVENT
UID:c5de8ea8-b258-4ad4-b516-1296db472052
DTSTAMP:20260424T055911Z
DESCRIPTION:
DTSTART;TZID=America/Chicago:20220414T110000
DTEND;TZID=America/Chicago:20220414T120000
LOCATION:
SUMMARY:DV Online Peer Support Group
END:VEVENT
END:VCALENDAR
