BEGIN:VCALENDAR
VERSION:2.0
PRODID:-//courage4change.org//NONSGML kigkonsult.se iCalcreator 2.30.10//
CALSCALE:GREGORIAN
METHOD:PUBLISH
UID:92ef2d94-41ba-403c-aab4-fd719426b94c
X-WR-CALDESC:
X-WR-RELCALID:3726f982aeee557af96d725795aee560
X-WR-TIMEZONE:America/Chicago
BEGIN:VTIMEZONE
TZID:America/Chicago
BEGIN:STANDARD
TZNAME:CST
DTSTART:20281105T020000
TZOFFSETFROM:-0500
TZOFFSETTO:-0600
RDATE:20291104T020000
RDATE:20301103T020000
END:STANDARD
BEGIN:DAYLIGHT
TZNAME:CDT
DTSTART:20290311T020000
TZOFFSETFROM:-0600
TZOFFSETTO:-0500
RDATE:20300310T020000
END:DAYLIGHT
END:VTIMEZONE
BEGIN:VEVENT
UID:7a69b5b7-3be4-4c5c-9538-ea9bf53e5a51
DTSTAMP:20260422T211758Z
DESCRIPTION:
DTSTART;TZID=America/Chicago:20290809T160000
DTEND;TZID=America/Chicago:20290809T173000
LOCATION:Contact Diane for more information
SUMMARY:Domestic Violence Group
END:VEVENT
END:VCALENDAR
