BEGIN:VCALENDAR
VERSION:2.0
PRODID:-//courage4change.org//NONSGML kigkonsult.se iCalcreator 2.30.10//
CALSCALE:GREGORIAN
METHOD:PUBLISH
UID:728a463e-295b-432b-9fac-c667ef0013af
X-WR-CALDESC:
X-WR-RELCALID:0404304931899dd6bdeabff3c6262e65
X-WR-TIMEZONE:America/Chicago
BEGIN:VTIMEZONE
TZID:America/Chicago
BEGIN:STANDARD
TZNAME:CST
DTSTART:20291104T020000
TZOFFSETFROM:-0500
TZOFFSETTO:-0600
RDATE:20301103T020000
END:STANDARD
BEGIN:DAYLIGHT
TZNAME:CDT
DTSTART:20290311T020000
TZOFFSETFROM:-0600
TZOFFSETTO:-0500
RDATE:20300310T020000
RDATE:20310309T020000
END:DAYLIGHT
END:VTIMEZONE
BEGIN:VEVENT
UID:06929bf9-34d0-4710-bfeb-3f61c35f5be9
DTSTAMP:20260423T063327Z
DESCRIPTION:
DTSTART;TZID=America/Chicago:20300117T160000
DTEND;TZID=America/Chicago:20300117T173000
LOCATION:Contact Diane for more information
SUMMARY:Domestic Violence Group
END:VEVENT
END:VCALENDAR
