BEGIN:VCALENDAR
VERSION:2.0
PRODID:-//courage4change.org//NONSGML kigkonsult.se iCalcreator 2.30.10//
CALSCALE:GREGORIAN
METHOD:PUBLISH
UID:ee1fb174-f046-4b16-a721-6037560a936c
X-WR-CALDESC:Peer Support Group\n\n?Join Zoom Meeting\nhttps://us02web.zoom
 .us/j/85234922191?pwd=hSv9ANCcQvQUOjO7rdXLN7htaUAn7H.1\n\nMeeting ID: 852 
 3492 2191\nPasscode: 252885
X-WR-RELCALID:9f4b7834ba1d34bff0a75ff0b76551c2
X-WR-TIMEZONE:America/Chicago
BEGIN:VTIMEZONE
TZID:America/Chicago
BEGIN:STANDARD
TZNAME:CST
DTSTART:20291104T020000
TZOFFSETFROM:-0500
TZOFFSETTO:-0600
RDATE:20301103T020000
END:STANDARD
BEGIN:DAYLIGHT
TZNAME:CDT
DTSTART:20290311T020000
TZOFFSETFROM:-0600
TZOFFSETTO:-0500
RDATE:20300310T020000
RDATE:20310309T020000
END:DAYLIGHT
END:VTIMEZONE
BEGIN:VEVENT
UID:59f3db3e-1507-4756-96fd-0a5177d7b0dc
DTSTAMP:20260423T074948Z
DESCRIPTION:Peer Support Group\n\n?Join Zoom Meeting\nhttps://us02web.zoom.
 us/j/85234922191?pwd=hSv9ANCcQvQUOjO7rdXLN7htaUAn7H.1\n\nMeeting ID: 852 3
 492 2191\nPasscode: 252885
DTSTART;TZID=America/Chicago:20300205T160000
DTEND;TZID=America/Chicago:20300205T173000
LOCATION:https://us02web.zoom.us/j/85234922191?pwd=hSv9ANCcQvQUOjO7rdXLN7ht
 aUAn7H.1
SUMMARY:Domestic Violence Group
END:VEVENT
END:VCALENDAR
