BEGIN:VCALENDAR
VERSION:2.0
PRODID:-//courage4change.org//NONSGML kigkonsult.se iCalcreator 2.30.10//
CALSCALE:GREGORIAN
METHOD:PUBLISH
UID:f00ba276-8365-48fe-9d23-7ed1fabe5959
X-WR-CALDESC:
X-WR-RELCALID:cbd64838407462d13cda68bec9cd5ce6
X-WR-TIMEZONE:America/Chicago
BEGIN:VTIMEZONE
TZID:America/Chicago
BEGIN:STANDARD
TZNAME:CST
DTSTART:20291104T020000
TZOFFSETFROM:-0500
TZOFFSETTO:-0600
RDATE:20301103T020000
END:STANDARD
BEGIN:DAYLIGHT
TZNAME:CDT
DTSTART:20290311T020000
TZOFFSETFROM:-0600
TZOFFSETTO:-0500
RDATE:20300310T020000
RDATE:20310309T020000
END:DAYLIGHT
END:VTIMEZONE
BEGIN:VEVENT
UID:59865a03-272f-4037-bccc-260bcfd7edc6
DTSTAMP:20260423T075136Z
DESCRIPTION:
DTSTART;TZID=America/Chicago:20300214T160000
DTEND;TZID=America/Chicago:20300214T173000
LOCATION:Contact Diane for more information
SUMMARY:Domestic Violence Group
END:VEVENT
END:VCALENDAR
