BEGIN:VCALENDAR
VERSION:2.0
PRODID:-//courage4change.org//NONSGML kigkonsult.se iCalcreator 2.30.10//
CALSCALE:GREGORIAN
METHOD:PUBLISH
UID:058f328f-6576-45eb-a902-8145540dacc0
X-WR-CALDESC:
X-WR-RELCALID:ccc6a4cfcce84cd1648e02ecc536b926
X-WR-TIMEZONE:America/Chicago
BEGIN:VTIMEZONE
TZID:America/Chicago
BEGIN:STANDARD
TZNAME:CST
DTSTART:20291104T020000
TZOFFSETFROM:-0500
TZOFFSETTO:-0600
RDATE:20301103T020000
END:STANDARD
BEGIN:DAYLIGHT
TZNAME:CDT
DTSTART:20300310T020000
TZOFFSETFROM:-0600
TZOFFSETTO:-0500
RDATE:20310309T020000
END:DAYLIGHT
END:VTIMEZONE
BEGIN:VEVENT
UID:2726e2a6-a500-4dd3-9745-ae5cea20e3dc
DTSTAMP:20260423T093537Z
DESCRIPTION:
DTSTART;TZID=America/Chicago:20300321T160000
DTEND;TZID=America/Chicago:20300321T173000
LOCATION:Contact Diane for more information
SUMMARY:Domestic Violence Group
END:VEVENT
END:VCALENDAR
