BEGIN:VCALENDAR
VERSION:2.0
PRODID:-//courage4change.org//NONSGML kigkonsult.se iCalcreator 2.30.10//
CALSCALE:GREGORIAN
METHOD:PUBLISH
UID:7932e110-e76e-46c4-b92f-c0f00c04ebf2
X-WR-CALDESC:
X-WR-RELCALID:6349508dbbd4a692a19720da34abcee0
X-WR-TIMEZONE:America/Chicago
BEGIN:VTIMEZONE
TZID:America/Chicago
BEGIN:STANDARD
TZNAME:CST
DTSTART:20291104T020000
TZOFFSETFROM:-0500
TZOFFSETTO:-0600
RDATE:20301103T020000
RDATE:20311102T020000
END:STANDARD
BEGIN:DAYLIGHT
TZNAME:CDT
DTSTART:20300310T020000
TZOFFSETFROM:-0600
TZOFFSETTO:-0500
RDATE:20310309T020000
END:DAYLIGHT
END:VTIMEZONE
BEGIN:VEVENT
UID:6c779447-ebb4-4004-8333-04bf4859e517
DTSTAMP:20260423T152435Z
DESCRIPTION:
DTSTART;TZID=America/Chicago:20300704T160000
DTEND;TZID=America/Chicago:20300704T173000
LOCATION:Contact Diane for more information
SUMMARY:Domestic Violence Group
END:VEVENT
END:VCALENDAR
