BEGIN:VCALENDAR
VERSION:2.0
PRODID:-//courage4change.org//NONSGML kigkonsult.se iCalcreator 2.30.10//
CALSCALE:GREGORIAN
METHOD:PUBLISH
UID:55d6cd26-3fa9-4514-a612-7b214d589dd3
X-WR-CALDESC:Peer Support Group\n\n?Join Zoom Meeting\nhttps://us02web.zoom
 .us/j/85234922191?pwd=hSv9ANCcQvQUOjO7rdXLN7htaUAn7H.1\n\nMeeting ID: 852 
 3492 2191\nPasscode: 252885
X-WR-RELCALID:0c87148a4707fd4c2187da9c4ccb9068
X-WR-TIMEZONE:America/Chicago
BEGIN:VTIMEZONE
TZID:America/Chicago
BEGIN:STANDARD
TZNAME:CST
DTSTART:20291104T020000
TZOFFSETFROM:-0500
TZOFFSETTO:-0600
RDATE:20301103T020000
RDATE:20311102T020000
END:STANDARD
BEGIN:DAYLIGHT
TZNAME:CDT
DTSTART:20300310T020000
TZOFFSETFROM:-0600
TZOFFSETTO:-0500
RDATE:20310309T020000
RDATE:20320314T020000
END:DAYLIGHT
END:VTIMEZONE
BEGIN:VEVENT
UID:025284a0-7f9c-48b0-a4a2-0eb79c0fd66f
DTSTAMP:20260423T183422Z
DESCRIPTION:Peer Support Group\n\n?Join Zoom Meeting\nhttps://us02web.zoom.
 us/j/85234922191?pwd=hSv9ANCcQvQUOjO7rdXLN7htaUAn7H.1\n\nMeeting ID: 852 3
 492 2191\nPasscode: 252885
DTSTART;TZID=America/Chicago:20300924T160000
DTEND;TZID=America/Chicago:20300924T173000
LOCATION:https://us02web.zoom.us/j/85234922191?pwd=hSv9ANCcQvQUOjO7rdXLN7ht
 aUAn7H.1
SUMMARY:Domestic Violence Group
END:VEVENT
END:VCALENDAR
