BEGIN:VCALENDAR
VERSION:2.0
PRODID:-//courage4change.org//NONSGML kigkonsult.se iCalcreator 2.30.10//
CALSCALE:GREGORIAN
METHOD:PUBLISH
UID:39444f04-e5d5-49c4-982f-69256e5a99e2
X-WR-CALDESC:Peer Support Group\n\n?Join Zoom Meeting\nhttps://us02web.zoom
 .us/j/85234922191?pwd=hSv9ANCcQvQUOjO7rdXLN7htaUAn7H.1\n\nMeeting ID: 852 
 3492 2191\nPasscode: 252885
X-WR-RELCALID:5ec676a8d3bd5e9b92560df8923d5b73
X-WR-TIMEZONE:America/Chicago
BEGIN:VTIMEZONE
TZID:America/Chicago
BEGIN:STANDARD
TZNAME:CST
DTSTART:20301103T020000
TZOFFSETFROM:-0500
TZOFFSETTO:-0600
RDATE:20311102T020000
RDATE:20321107T020000
END:STANDARD
BEGIN:DAYLIGHT
TZNAME:CDT
DTSTART:20310309T020000
TZOFFSETFROM:-0600
TZOFFSETTO:-0500
RDATE:20320314T020000
END:DAYLIGHT
END:VTIMEZONE
BEGIN:VEVENT
UID:b290bab9-0eb3-4d8d-9f74-ff7d84af4d72
DTSTAMP:20260424T122740Z
DESCRIPTION:Peer Support Group\n\n?Join Zoom Meeting\nhttps://us02web.zoom.
 us/j/85234922191?pwd=hSv9ANCcQvQUOjO7rdXLN7htaUAn7H.1\n\nMeeting ID: 852 3
 492 2191\nPasscode: 252885
DTSTART;TZID=America/Chicago:20310701T160000
DTEND;TZID=America/Chicago:20310701T173000
LOCATION:https://us02web.zoom.us/j/85234922191?pwd=hSv9ANCcQvQUOjO7rdXLN7ht
 aUAn7H.1
SUMMARY:Domestic Violence Group
END:VEVENT
END:VCALENDAR
