BEGIN:VCALENDAR
VERSION:2.0
PRODID:-//courage4change.org//NONSGML kigkonsult.se iCalcreator 2.30.10//
CALSCALE:GREGORIAN
METHOD:PUBLISH
UID:ac6166d6-cba4-4828-af01-c8abbc0319f3
X-WR-CALDESC:Peer Support Group\n\n?Join Zoom Meeting\nhttps://us02web.zoom
 .us/j/85234922191?pwd=hSv9ANCcQvQUOjO7rdXLN7htaUAn7H.1\n\nMeeting ID: 852 
 3492 2191\nPasscode: 252885
X-WR-RELCALID:e989e6dd35c6cac8d8e8d75158258453
X-WR-TIMEZONE:America/Chicago
BEGIN:VTIMEZONE
TZID:America/Chicago
BEGIN:STANDARD
TZNAME:CST
DTSTART:20301103T020000
TZOFFSETFROM:-0500
TZOFFSETTO:-0600
RDATE:20311102T020000
RDATE:20321107T020000
END:STANDARD
BEGIN:DAYLIGHT
TZNAME:CDT
DTSTART:20310309T020000
TZOFFSETFROM:-0600
TZOFFSETTO:-0500
RDATE:20320314T020000
END:DAYLIGHT
END:VTIMEZONE
BEGIN:VEVENT
UID:7b652a48-41c5-44f1-ac00-59564acc17b0
DTSTAMP:20260424T140608Z
DESCRIPTION:Peer Support Group\n\n?Join Zoom Meeting\nhttps://us02web.zoom.
 us/j/85234922191?pwd=hSv9ANCcQvQUOjO7rdXLN7htaUAn7H.1\n\nMeeting ID: 852 3
 492 2191\nPasscode: 252885
DTSTART;TZID=America/Chicago:20310812T160000
DTEND;TZID=America/Chicago:20310812T173000
LOCATION:https://us02web.zoom.us/j/85234922191?pwd=hSv9ANCcQvQUOjO7rdXLN7ht
 aUAn7H.1
SUMMARY:Domestic Violence Group
END:VEVENT
END:VCALENDAR
