BEGIN:VCALENDAR
VERSION:2.0
PRODID:-//courage4change.org//NONSGML kigkonsult.se iCalcreator 2.30.10//
CALSCALE:GREGORIAN
METHOD:PUBLISH
UID:eeb7d1fd-336e-45bd-96b2-7dd9978b4f28
X-WR-CALDESC:Peer Support Group\n\n?Join Zoom Meeting\nhttps://us02web.zoom
 .us/j/85234922191?pwd=hSv9ANCcQvQUOjO7rdXLN7htaUAn7H.1\n\nMeeting ID: 852 
 3492 2191\nPasscode: 252885
X-WR-RELCALID:75999b911a606aabdf64a5fea016bb31
X-WR-TIMEZONE:America/Chicago
BEGIN:VTIMEZONE
TZID:America/Chicago
BEGIN:STANDARD
TZNAME:CST
DTSTART:20301103T020000
TZOFFSETFROM:-0500
TZOFFSETTO:-0600
RDATE:20311102T020000
RDATE:20321107T020000
END:STANDARD
BEGIN:DAYLIGHT
TZNAME:CDT
DTSTART:20310309T020000
TZOFFSETFROM:-0600
TZOFFSETTO:-0500
RDATE:20320314T020000
RDATE:20330313T020000
END:DAYLIGHT
END:VTIMEZONE
BEGIN:VEVENT
UID:a18142e5-a5ca-48de-a4b3-2bb88de7d86b
DTSTAMP:20260424T155236Z
DESCRIPTION:Peer Support Group\n\n?Join Zoom Meeting\nhttps://us02web.zoom.
 us/j/85234922191?pwd=hSv9ANCcQvQUOjO7rdXLN7htaUAn7H.1\n\nMeeting ID: 852 3
 492 2191\nPasscode: 252885
DTSTART;TZID=America/Chicago:20310930T160000
DTEND;TZID=America/Chicago:20310930T173000
LOCATION:https://us02web.zoom.us/j/85234922191?pwd=hSv9ANCcQvQUOjO7rdXLN7ht
 aUAn7H.1
SUMMARY:Domestic Violence Group
END:VEVENT
END:VCALENDAR
